BEGIN:VCALENDAR
VERSION:2.0
PRODID:-//Plone.org//NONSGML plone.app.event//EN
X-WR-TIMEZONE:America/Porto_Velho
BEGIN:VEVENT
SUMMARY:Vereador Renato - Treinamento de Enfermagem
DTSTART;TZID=America/Porto_Velho;VALUE=DATE-TIME:20250629T090000
DTEND;TZID=America/Porto_Velho;VALUE=DATE-TIME:20250629T170000
DTSTAMP;VALUE=DATE-TIME:20260422T020510Z
UID:671e7494988c4e34a5611d1d8ab3e1b2@www.buritis.ro.leg.br
CREATED;VALUE=DATE-TIME:20250624T164856Z
LAST-MODIFIED;VALUE=DATE-TIME:20250624T164904Z
URL:https://www.buritis.ro.leg.br/institucional/eventos/vereador-renato-tr
 einamento-de-enfermagem
END:VEVENT
BEGIN:VTIMEZONE
TZID:America/Porto_Velho
X-LIC-LOCATION:America/Porto_Velho
BEGIN:STANDARD
DTSTART;VALUE=DATE-TIME:19880206T230000
TZNAME:AMT
TZOFFSETFROM:-0300
TZOFFSETTO:-0400
END:STANDARD
END:VTIMEZONE
END:VCALENDAR
