BEGIN:VCALENDAR
VERSION:2.0
PRODID:-//Plone.org//NONSGML plone.app.event//EN
X-WR-TIMEZONE:America/Porto_Velho
BEGIN:VEVENT
SUMMARY:Treinamento SAPL
DTSTART;TZID=America/Porto_Velho;VALUE=DATE-TIME:20250523T083000
DTEND;TZID=America/Porto_Velho;VALUE=DATE-TIME:20250523T103000
DTSTAMP;VALUE=DATE-TIME:20260422T010329Z
UID:e6196877c38049d9844a26b253a2b9bc@www.buritis.ro.leg.br
CREATED;VALUE=DATE-TIME:20250624T164220Z
LAST-MODIFIED;VALUE=DATE-TIME:20250624T164225Z
URL:https://www.buritis.ro.leg.br/institucional/eventos/treinamento-sapl
END:VEVENT
BEGIN:VTIMEZONE
TZID:America/Porto_Velho
X-LIC-LOCATION:America/Porto_Velho
BEGIN:STANDARD
DTSTART;VALUE=DATE-TIME:19880206T230000
TZNAME:AMT
TZOFFSETFROM:-0300
TZOFFSETTO:-0400
END:STANDARD
END:VTIMEZONE
END:VCALENDAR
