BEGIN:VCALENDAR
VERSION:2.0
PRODID:-//Plone.org//NONSGML plone.app.event//EN
X-WR-TIMEZONE:America/Porto_Velho
BEGIN:VEVENT
SUMMARY:Treinamento de Enfermagem
DTSTART;TZID=America/Porto_Velho;VALUE=DATE-TIME:20250730T073000
DTEND;TZID=America/Porto_Velho;VALUE=DATE-TIME:20250730T133000
DTSTAMP;VALUE=DATE-TIME:20260422T011032Z
UID:0f17e8123f0a4f8b86702aa3575aa713@www.buritis.ro.leg.br
CREATED;VALUE=DATE-TIME:20250702T134625Z
LAST-MODIFIED;VALUE=DATE-TIME:20250702T134630Z
URL:https://www.buritis.ro.leg.br/institucional/eventos/treinamento-de-enf
 ermagem
END:VEVENT
BEGIN:VTIMEZONE
TZID:America/Porto_Velho
X-LIC-LOCATION:America/Porto_Velho
BEGIN:STANDARD
DTSTART;VALUE=DATE-TIME:19880206T230000
TZNAME:AMT
TZOFFSETFROM:-0300
TZOFFSETTO:-0400
END:STANDARD
END:VTIMEZONE
END:VCALENDAR
