BEGIN:VCALENDAR
VERSION:2.0
PRODID:-//Plone.org//NONSGML plone.app.event//EN
X-WR-TIMEZONE:America/Porto_Velho
BEGIN:VEVENT
SUMMARY:Sindicato dos produtores rurais
DTSTART;TZID=America/Porto_Velho;VALUE=DATE-TIME:20250618T083000
DTEND;TZID=America/Porto_Velho;VALUE=DATE-TIME:20250618T113000
DTSTAMP;VALUE=DATE-TIME:20260424T045521Z
UID:9f080ed956bc4521866efc921ea4ce50@www.buritis.ro.leg.br
CREATED;VALUE=DATE-TIME:20250624T164538Z
LAST-MODIFIED;VALUE=DATE-TIME:20250624T164618Z
URL:https://www.buritis.ro.leg.br/institucional/eventos/sindicato-dos-prod
 utores-rurais
END:VEVENT
BEGIN:VTIMEZONE
TZID:America/Porto_Velho
X-LIC-LOCATION:America/Porto_Velho
BEGIN:STANDARD
DTSTART;VALUE=DATE-TIME:19880206T230000
TZNAME:AMT
TZOFFSETFROM:-0300
TZOFFSETTO:-0400
END:STANDARD
END:VTIMEZONE
END:VCALENDAR
