BEGIN:VCALENDAR
VERSION:2.0
PRODID:-//Plone.org//NONSGML plone.app.event//EN
X-WR-TIMEZONE:America/Porto_Velho
BEGIN:VEVENT
SUMMARY:Sindicato dos Produtores Rurais de Buritis
DTSTART;TZID=America/Porto_Velho;VALUE=DATE-TIME:20250606T090000
DTEND;TZID=America/Porto_Velho;VALUE=DATE-TIME:20250606T120000
DTSTAMP;VALUE=DATE-TIME:20260422T044254Z
UID:9963987675ed42e098ac4f648acb9750@www.buritis.ro.leg.br
CREATED;VALUE=DATE-TIME:20250624T164452Z
LAST-MODIFIED;VALUE=DATE-TIME:20250624T164458Z
URL:https://www.buritis.ro.leg.br/institucional/eventos/sindicato-dos-prod
 utores-rurais-de-buritis
END:VEVENT
BEGIN:VTIMEZONE
TZID:America/Porto_Velho
X-LIC-LOCATION:America/Porto_Velho
BEGIN:STANDARD
DTSTART;VALUE=DATE-TIME:19880206T230000
TZNAME:AMT
TZOFFSETFROM:-0300
TZOFFSETTO:-0400
END:STANDARD
END:VTIMEZONE
END:VCALENDAR
