BEGIN:VCALENDAR
VERSION:2.0
PRODID:-//Plone.org//NONSGML plone.app.event//EN
X-WR-TIMEZONE:America/Porto_Velho
BEGIN:VEVENT
SUMMARY:Sindicato dos produtores rurais
DTSTART;TZID=America/Porto_Velho;VALUE=DATE-TIME:20250710T084500
DTEND;TZID=America/Porto_Velho;VALUE=DATE-TIME:20250710T114500
DTSTAMP;VALUE=DATE-TIME:20260422T030441Z
UID:2def7a4c5f914a35b19644cc5983147b@www.buritis.ro.leg.br
CREATED;VALUE=DATE-TIME:20250718T144847Z
LAST-MODIFIED;VALUE=DATE-TIME:20250718T144858Z
URL:https://www.buritis.ro.leg.br/institucional/eventos/sindicato-dos-prod
 utores-rurais-1
END:VEVENT
BEGIN:VTIMEZONE
TZID:America/Porto_Velho
X-LIC-LOCATION:America/Porto_Velho
BEGIN:STANDARD
DTSTART;VALUE=DATE-TIME:19880206T230000
TZNAME:AMT
TZOFFSETFROM:-0300
TZOFFSETTO:-0400
END:STANDARD
END:VTIMEZONE
END:VCALENDAR
