BEGIN:VCALENDAR
VERSION:2.0
PRODID:-//Plone.org//NONSGML plone.app.event//EN
X-WR-TIMEZONE:America/Porto_Velho
BEGIN:VEVENT
SUMMARY:Sessão Ordinária
DTSTART;TZID=America/Porto_Velho;VALUE=DATE-TIME:20250203T150000
DTEND;TZID=America/Porto_Velho;VALUE=DATE-TIME:20250203T170000
DTSTAMP;VALUE=DATE-TIME:20260422T043804Z
UID:06e91fac3cd74f97a2fb1eaa12d44aaf@www.buritis.ro.leg.br
CREATED;VALUE=DATE-TIME:20250128T165249Z
DESCRIPTION:1ª Sessão Ordinária de 2025
LAST-MODIFIED;VALUE=DATE-TIME:20250129T122601Z
URL:https://www.buritis.ro.leg.br/institucional/eventos/sessao-ordinaria
END:VEVENT
BEGIN:VTIMEZONE
TZID:America/Porto_Velho
X-LIC-LOCATION:America/Porto_Velho
BEGIN:STANDARD
DTSTART;VALUE=DATE-TIME:19880206T230000
TZNAME:AMT
TZOFFSETFROM:-0300
TZOFFSETTO:-0400
END:STANDARD
END:VTIMEZONE
END:VCALENDAR
