BEGIN:VCALENDAR
VERSION:2.0
PRODID:-//Plone.org//NONSGML plone.app.event//EN
X-WR-TIMEZONE:America/Porto_Velho
BEGIN:VEVENT
SUMMARY:Sessão Ordinária 
DTSTART;TZID=America/Porto_Velho;VALUE=DATE-TIME:20250310T190000
DTEND;TZID=America/Porto_Velho;VALUE=DATE-TIME:20250310T220000
DTSTAMP;VALUE=DATE-TIME:20260422T075005Z
UID:638e4c86b80a402ca27ccc92a3eb6c5b@www.buritis.ro.leg.br
CREATED;VALUE=DATE-TIME:20250307T160223Z
LAST-MODIFIED;VALUE=DATE-TIME:20250307T160228Z
URL:https://www.buritis.ro.leg.br/institucional/eventos/sessao-ordinaria-4
END:VEVENT
BEGIN:VTIMEZONE
TZID:America/Porto_Velho
X-LIC-LOCATION:America/Porto_Velho
BEGIN:STANDARD
DTSTART;VALUE=DATE-TIME:19880206T230000
TZNAME:AMT
TZOFFSETFROM:-0300
TZOFFSETTO:-0400
END:STANDARD
END:VTIMEZONE
END:VCALENDAR
