BEGIN:VCALENDAR
VERSION:2.0
PRODID:-//Plone.org//NONSGML plone.app.event//EN
X-WR-TIMEZONE:America/Porto_Velho
BEGIN:VEVENT
SUMMARY:Sessão Ordinária
DTSTART;TZID=America/Porto_Velho;VALUE=DATE-TIME:20250210T150000
DTEND;TZID=America/Porto_Velho;VALUE=DATE-TIME:20250210T180000
DTSTAMP;VALUE=DATE-TIME:20260422T011042Z
UID:d75ada6d8f9f437d8896469dd1fca7d1@www.buritis.ro.leg.br
CREATED;VALUE=DATE-TIME:20250218T123405Z
LAST-MODIFIED;VALUE=DATE-TIME:20250218T123414Z
URL:https://www.buritis.ro.leg.br/institucional/eventos/sessao-ordinaria-1
END:VEVENT
BEGIN:VTIMEZONE
TZID:America/Porto_Velho
X-LIC-LOCATION:America/Porto_Velho
BEGIN:STANDARD
DTSTART;VALUE=DATE-TIME:19880206T230000
TZNAME:AMT
TZOFFSETFROM:-0300
TZOFFSETTO:-0400
END:STANDARD
END:VTIMEZONE
END:VCALENDAR
