BEGIN:VCALENDAR
VERSION:2.0
PRODID:-//Plone.org//NONSGML plone.app.event//EN
X-WR-TIMEZONE:America/Porto_Velho
BEGIN:VEVENT
SUMMARY:SEMAGRI
DTSTART;TZID=America/Porto_Velho;VALUE=DATE-TIME:20250307T083000
DTEND;TZID=America/Porto_Velho;VALUE=DATE-TIME:20250307T103000
DTSTAMP;VALUE=DATE-TIME:20260422T015432Z
UID:c0bc632519304af59cbcdc6488567a07@www.buritis.ro.leg.br
CREATED;VALUE=DATE-TIME:20250225T174722Z
LAST-MODIFIED;VALUE=DATE-TIME:20250225T174755Z
URL:https://www.buritis.ro.leg.br/institucional/eventos/semagri
END:VEVENT
BEGIN:VTIMEZONE
TZID:America/Porto_Velho
X-LIC-LOCATION:America/Porto_Velho
BEGIN:STANDARD
DTSTART;VALUE=DATE-TIME:19880206T230000
TZNAME:AMT
TZOFFSETFROM:-0300
TZOFFSETTO:-0400
END:STANDARD
END:VTIMEZONE
END:VCALENDAR
