BEGIN:VCALENDAR
VERSION:2.0
PRODID:-//Plone.org//NONSGML plone.app.event//EN
X-WR-TIMEZONE:America/Porto_Velho
BEGIN:VEVENT
SUMMARY:SEMAGRI
DTSTART;TZID=America/Porto_Velho;VALUE=DATE-TIME:20250604T190000
DTEND;TZID=America/Porto_Velho;VALUE=DATE-TIME:20250604T220000
DTSTAMP;VALUE=DATE-TIME:20260422T010329Z
UID:95ebffe2a42c482fb5481aeb0bf3b5b7@www.buritis.ro.leg.br
CREATED;VALUE=DATE-TIME:20250624T164416Z
LAST-MODIFIED;VALUE=DATE-TIME:20250624T164420Z
URL:https://www.buritis.ro.leg.br/institucional/eventos/semagri-1
END:VEVENT
BEGIN:VTIMEZONE
TZID:America/Porto_Velho
X-LIC-LOCATION:America/Porto_Velho
BEGIN:STANDARD
DTSTART;VALUE=DATE-TIME:19880206T230000
TZNAME:AMT
TZOFFSETFROM:-0300
TZOFFSETTO:-0400
END:STANDARD
END:VTIMEZONE
END:VCALENDAR
