BEGIN:VCALENDAR
VERSION:2.0
PRODID:-//Plone.org//NONSGML plone.app.event//EN
X-WR-TIMEZONE:America/Porto_Velho
BEGIN:VEVENT
SUMMARY:Secretaria de Educação
DTSTART;TZID=America/Porto_Velho;VALUE=DATE-TIME:20250430T093000
DTEND;TZID=America/Porto_Velho;VALUE=DATE-TIME:20250430T113000
DTSTAMP;VALUE=DATE-TIME:20260422T011033Z
UID:dc13c1e48e3c4383a863dc573c441d5a@www.buritis.ro.leg.br
CREATED;VALUE=DATE-TIME:20250624T163543Z
LAST-MODIFIED;VALUE=DATE-TIME:20250624T163547Z
URL:https://www.buritis.ro.leg.br/institucional/eventos/secretaria-de-educ
 acao
END:VEVENT
BEGIN:VTIMEZONE
TZID:America/Porto_Velho
X-LIC-LOCATION:America/Porto_Velho
BEGIN:STANDARD
DTSTART;VALUE=DATE-TIME:19880206T230000
TZNAME:AMT
TZOFFSETFROM:-0300
TZOFFSETTO:-0400
END:STANDARD
END:VTIMEZONE
END:VCALENDAR
