BEGIN:VCALENDAR
VERSION:2.0
PRODID:-//Plone.org//NONSGML plone.app.event//EN
X-WR-TIMEZONE:America/Porto_Velho
BEGIN:VEVENT
SUMMARY:Reunião com os Camelôs
DTSTART;TZID=America/Porto_Velho;VALUE=DATE-TIME:20250618T193000
DTEND;TZID=America/Porto_Velho;VALUE=DATE-TIME:20250618T213000
DTSTAMP;VALUE=DATE-TIME:20260422T010531Z
UID:c6117a078a424caeb53e59cca9680b54@www.buritis.ro.leg.br
CREATED;VALUE=DATE-TIME:20250624T164613Z
LAST-MODIFIED;VALUE=DATE-TIME:20250624T164620Z
URL:https://www.buritis.ro.leg.br/institucional/eventos/reuniao-com-os-cam
 elos
END:VEVENT
BEGIN:VTIMEZONE
TZID:America/Porto_Velho
X-LIC-LOCATION:America/Porto_Velho
BEGIN:STANDARD
DTSTART;VALUE=DATE-TIME:19880206T230000
TZNAME:AMT
TZOFFSETFROM:-0300
TZOFFSETTO:-0400
END:STANDARD
END:VTIMEZONE
END:VCALENDAR
