BEGIN:VCALENDAR
VERSION:2.0
PRODID:-//Plone.org//NONSGML plone.app.event//EN
X-WR-TIMEZONE:America/Porto_Velho
BEGIN:VEVENT
SUMMARY:Reservado Comissão
DTSTART;VALUE=DATE:20250717
DTEND;VALUE=DATE:20250719
DTSTAMP;VALUE=DATE-TIME:20260422T014623Z
UID:6d15022b3908465fa0dbadedbc80e86d@www.buritis.ro.leg.br
CREATED;VALUE=DATE-TIME:20250718T144945Z
LAST-MODIFIED;VALUE=DATE-TIME:20250718T145108Z
URL:https://www.buritis.ro.leg.br/institucional/eventos/reservado-comissao
END:VEVENT
END:VCALENDAR
