BEGIN:VCALENDAR
VERSION:2.0
PRODID:-//Plone.org//NONSGML plone.app.event//EN
X-WR-TIMEZONE:America/Porto_Velho
BEGIN:VEVENT
SUMMARY:Plenário Solenidade APAE
DTSTART;TZID=America/Porto_Velho;VALUE=DATE-TIME:20250326T193000
DTEND;TZID=America/Porto_Velho;VALUE=DATE-TIME:20250326T203000
DTSTAMP;VALUE=DATE-TIME:20260422T010410Z
UID:6c18be81a2e74af9a8f4ea4a8492e1d4@www.buritis.ro.leg.br
CREATED;VALUE=DATE-TIME:20250218T135950Z
LAST-MODIFIED;VALUE=DATE-TIME:20250328T115714Z
URL:https://www.buritis.ro.leg.br/institucional/eventos/plenario-solenidad
 e-apae
END:VEVENT
BEGIN:VTIMEZONE
TZID:America/Porto_Velho
X-LIC-LOCATION:America/Porto_Velho
BEGIN:STANDARD
DTSTART;VALUE=DATE-TIME:19880206T230000
TZNAME:AMT
TZOFFSETFROM:-0300
TZOFFSETTO:-0400
END:STANDARD
END:VTIMEZONE
END:VCALENDAR
