BEGIN:VCALENDAR
VERSION:2.0
PRODID:-//Plone.org//NONSGML plone.app.event//EN
X-WR-TIMEZONE:America/Porto_Velho
BEGIN:VEVENT
SUMMARY:Plenário para a Secretaria de Saúde
DTSTART;TZID=America/Porto_Velho;VALUE=DATE-TIME:20250225T140000
DTEND;TZID=America/Porto_Velho;VALUE=DATE-TIME:20250225T150000
DTSTAMP;VALUE=DATE-TIME:20260422T063535Z
UID:53c66aaf06fb44fab2d7762b8ab431a3@www.buritis.ro.leg.br
CREATED;VALUE=DATE-TIME:20250128T170624Z
LAST-MODIFIED;VALUE=DATE-TIME:20250129T122628Z
URL:https://www.buritis.ro.leg.br/institucional/eventos/plenario-para-a-se
 cretaria-de-saude
END:VEVENT
BEGIN:VTIMEZONE
TZID:America/Porto_Velho
X-LIC-LOCATION:America/Porto_Velho
BEGIN:STANDARD
DTSTART;VALUE=DATE-TIME:19880206T230000
TZNAME:AMT
TZOFFSETFROM:-0300
TZOFFSETTO:-0400
END:STANDARD
END:VTIMEZONE
END:VCALENDAR
