BEGIN:VCALENDAR
VERSION:2.0
PRODID:-//Plone.org//NONSGML plone.app.event//EN
X-WR-TIMEZONE:America/Porto_Velho
BEGIN:VEVENT
SUMMARY:Plenário Agendado Prefeitura
DTSTART;TZID=America/Porto_Velho;VALUE=DATE-TIME:20250408T100000
DTEND;TZID=America/Porto_Velho;VALUE=DATE-TIME:20250408T110000
DTSTAMP;VALUE=DATE-TIME:20260422T010506Z
UID:9674b3be2bb64aea82b684b349f7690f@www.buritis.ro.leg.br
CREATED;VALUE=DATE-TIME:20250624T163241Z
LAST-MODIFIED;VALUE=DATE-TIME:20250624T163249Z
URL:https://www.buritis.ro.leg.br/institucional/eventos/plenario-agendado-
 prefeitura
END:VEVENT
BEGIN:VTIMEZONE
TZID:America/Porto_Velho
X-LIC-LOCATION:America/Porto_Velho
BEGIN:STANDARD
DTSTART;VALUE=DATE-TIME:19880206T230000
TZNAME:AMT
TZOFFSETFROM:-0300
TZOFFSETTO:-0400
END:STANDARD
END:VTIMEZONE
END:VCALENDAR
