BEGIN:VCALENDAR
VERSION:2.0
PRODID:-//Plone.org//NONSGML plone.app.event//EN
X-WR-TIMEZONE:America/Porto_Velho
BEGIN:VEVENT
SUMMARY:PICC Hospital Regional
DTSTART;VALUE=DATE:20250402
DTEND;VALUE=DATE:20250404
DTSTAMP;VALUE=DATE-TIME:20260422T043804Z
UID:1de8a9b3f13b43a8bc21dacb35bd3e02@www.buritis.ro.leg.br
CREATED;VALUE=DATE-TIME:20250328T115818Z
LAST-MODIFIED;VALUE=DATE-TIME:20250328T115823Z
URL:https://www.buritis.ro.leg.br/institucional/eventos/picc-hospital-regi
 onal
END:VEVENT
END:VCALENDAR
