BEGIN:VCALENDAR
VERSION:2.0
PRODID:-//Plone.org//NONSGML plone.app.event//EN
X-WR-TIMEZONE:America/Porto_Velho
BEGIN:VEVENT
SUMMARY:Palestra Mulheres Empreendedoras
DTSTART;TZID=America/Porto_Velho;VALUE=DATE-TIME:20250314T190000
DTEND;TZID=America/Porto_Velho;VALUE=DATE-TIME:20250314T220000
DTSTAMP;VALUE=DATE-TIME:20260422T020029Z
UID:97dde00231bf465697ab725b53b924d4@www.buritis.ro.leg.br
CREATED;VALUE=DATE-TIME:20250225T174745Z
LAST-MODIFIED;VALUE=DATE-TIME:20250225T174759Z
URL:https://www.buritis.ro.leg.br/institucional/eventos/palestra-mulheres-
 empreendedoras
END:VEVENT
BEGIN:VTIMEZONE
TZID:America/Porto_Velho
X-LIC-LOCATION:America/Porto_Velho
BEGIN:STANDARD
DTSTART;VALUE=DATE-TIME:19880206T230000
TZNAME:AMT
TZOFFSETFROM:-0300
TZOFFSETTO:-0400
END:STANDARD
END:VTIMEZONE
END:VCALENDAR
