BEGIN:VCALENDAR
VERSION:2.0
PRODID:-//Plone.org//NONSGML plone.app.event//EN
X-WR-TIMEZONE:America/Porto_Velho
BEGIN:VEVENT
SUMMARY:Limpeza ar
DTSTART;VALUE=DATE:20250214
DTEND;VALUE=DATE:20250216
DTSTAMP;VALUE=DATE-TIME:20260422T010927Z
UID:15f239dbdf724413aae515536cfda7a6@www.buritis.ro.leg.br
CREATED;VALUE=DATE-TIME:20250218T123441Z
LAST-MODIFIED;VALUE=DATE-TIME:20250218T123447Z
URL:https://www.buritis.ro.leg.br/institucional/eventos/limpeza-ar
END:VEVENT
END:VCALENDAR
