BEGIN:VCALENDAR
VERSION:2.0
PRODID:-//Plone.org//NONSGML plone.app.event//EN
X-WR-TIMEZONE:America/Porto_Velho
BEGIN:VEVENT
SUMMARY:Hospital Regional
DTSTART;VALUE=DATE:20250327
DTEND;VALUE=DATE:20250329
DTSTAMP;VALUE=DATE-TIME:20260422T023923Z
UID:5eb2a7ff8d0d4474834f3ef116a04443@www.buritis.ro.leg.br
CREATED;VALUE=DATE-TIME:20250307T160311Z
LAST-MODIFIED;VALUE=DATE-TIME:20250307T160317Z
URL:https://www.buritis.ro.leg.br/institucional/eventos/hospital-regional
END:VEVENT
END:VCALENDAR
