BEGIN:VCALENDAR
VERSION:2.0
PRODID:-//Plone.org//NONSGML plone.app.event//EN
X-WR-TIMEZONE:America/Porto_Velho
BEGIN:VEVENT
SUMMARY:EDITAL DE CONVOCAÇÃO DE SESSÃO EXTRAORDINÁRIA Nº 008/2021
DTSTART;TZID=Brazil/East;VALUE=DATE-TIME:20210510T143000
DTEND;TZID=Brazil/East;VALUE=DATE-TIME:20210510T153000
DTSTAMP;VALUE=DATE-TIME:20260422T011650Z
UID:f07c105e9e1d4785bfbf579a72b28c69@www.buritis.ro.leg.br
CREATED;VALUE=DATE-TIME:20210510T182908Z
DESCRIPTION:EDITAL DE CONVOCAÇÃO DE SESSÃO EXTRAORDINÁRIA Nº 008/2021
LAST-MODIFIED;VALUE=DATE-TIME:20241220T202632Z
URL:https://www.buritis.ro.leg.br/institucional/eventos/edital-de-convocac
 ao-de-sessao-extraordinaria-no-008-2021-1
END:VEVENT
BEGIN:VTIMEZONE
TZID:Brazil/East
X-LIC-LOCATION:Brazil/East
BEGIN:STANDARD
DTSTART;VALUE=DATE-TIME:20210220T230000
TZNAME:BRT
TZOFFSETFROM:-0200
TZOFFSETTO:-0300
END:STANDARD
END:VTIMEZONE
END:VCALENDAR
