BEGIN:VCALENDAR
VERSION:2.0
PRODID:-//Plone.org//NONSGML plone.app.event//EN
X-WR-TIMEZONE:America/Porto_Velho
BEGIN:VEVENT
SUMMARY:EDITAL DE CONVOCAÇÃO DE SESSÃO EXTRAORDINÁRIA Nº 001/2022
DTSTART;TZID=Brazil/East;VALUE=DATE-TIME:20220107T120000
DTEND;TZID=Brazil/East;VALUE=DATE-TIME:20220107T130000
DTSTAMP;VALUE=DATE-TIME:20260422T011649Z
UID:224016ede52241d5b1ad5504ec5ca2bd@www.buritis.ro.leg.br
CREATED;VALUE=DATE-TIME:20220107T145805Z
DESCRIPTION:EDITAL DE CONVOCAÇÃO DE SESSÃO EXTRAORDINÁRIA Nº 001/2022
LAST-MODIFIED;VALUE=DATE-TIME:20241220T202632Z
URL:https://www.buritis.ro.leg.br/institucional/eventos/edital-de-convocac
 ao-de-sessao-extraordinaria-no-001-2022-1
END:VEVENT
BEGIN:VTIMEZONE
TZID:Brazil/East
X-LIC-LOCATION:Brazil/East
BEGIN:DAYLIGHT
DTSTART;VALUE=DATE-TIME:20211017T010000
TZNAME:BRST
TZOFFSETFROM:-0300
TZOFFSETTO:-0200
END:DAYLIGHT
END:VTIMEZONE
END:VCALENDAR
