BEGIN:VCALENDAR
VERSION:2.0
PRODID:-//Plone.org//NONSGML plone.app.event//EN
X-WR-TIMEZONE:America/Porto_Velho
BEGIN:VEVENT
SUMMARY:EDITAL DE CONVOCAÇÃO DE SESSÃO EXTRAORDINÁRIA N° 009/2021
DTSTART;TZID=Brazil/East;VALUE=DATE-TIME:20210705T150000
DTEND;TZID=Brazil/East;VALUE=DATE-TIME:20210705T160000
DTSTAMP;VALUE=DATE-TIME:20260422T011642Z
UID:ee67b81286ae48ada5081055c97ec15f@www.buritis.ro.leg.br
CREATED;VALUE=DATE-TIME:20210702T163510Z
DESCRIPTION:EDITAL DE CONVOCAÇÃO DE SESSÃO EXTRAORDINÁRIA N° 009/202
LAST-MODIFIED;VALUE=DATE-TIME:20241220T202632Z
LOCATION:Sede da Câmara Municipal de Buritis
URL:https://www.buritis.ro.leg.br/institucional/eventos/edital-de-convocac
 ao-de-sessao-extraordinaria-ndeg-009-2021
END:VEVENT
BEGIN:VTIMEZONE
TZID:Brazil/East
X-LIC-LOCATION:Brazil/East
BEGIN:STANDARD
DTSTART;VALUE=DATE-TIME:20210220T230000
TZNAME:BRT
TZOFFSETFROM:-0200
TZOFFSETTO:-0300
END:STANDARD
END:VTIMEZONE
END:VCALENDAR
