BEGIN:VCALENDAR
VERSION:2.0
PRODID:-//Plone.org//NONSGML plone.app.event//EN
X-WR-TIMEZONE:America/Porto_Velho
BEGIN:VEVENT
SUMMARY:DER
DTSTART;TZID=Brazil/East;VALUE=DATE-TIME:20231124T080000
DTEND;TZID=Brazil/East;VALUE=DATE-TIME:20231124T120000
DTSTAMP;VALUE=DATE-TIME:20260422T063128Z
UID:fd7c9f52c61945129d95a1c6ec0aef07@www.buritis.ro.leg.br
CREATED;VALUE=DATE-TIME:20231124T012003Z
DESCRIPTION:Disponibilização de espaço para realização de treinamento
 .
LAST-MODIFIED;VALUE=DATE-TIME:20241220T202632Z
LOCATION:Plenário da Câmara Municipal de Buritis
URL:https://www.buritis.ro.leg.br/institucional/eventos/der
END:VEVENT
BEGIN:VTIMEZONE
TZID:Brazil/East
X-LIC-LOCATION:Brazil/East
BEGIN:DAYLIGHT
DTSTART;VALUE=DATE-TIME:20231015T010000
TZNAME:BRST
TZOFFSETFROM:-0300
TZOFFSETTO:-0200
END:DAYLIGHT
END:VTIMEZONE
END:VCALENDAR
